Workbook

Sheet Ohje
B3: OHJE LOMAKKEEN TÄYTTÄMISEEN
B6: Tämän lomakkeen on luonut Lahden kaupungin ESR-rahoitteinen TOTTA! -hanke 2025. Mittaristo pohjautuu ICF-viitekehykseen, joka on kansainvälinen toimintakyvyn, toimintarajoitteiden ja terveyden luokitus. ICF:n avulla kerätty tieto on henkilötietoa, johon pätevät yleisesti hyväksytyt tiedon käyttötarkoituksen mukaiset salassapitosäännökset. Henkilön toimintakyvyn havainnointiin tulee kysyä lupa havainnoitavalta, ja varmistaa että hän ymmärtää mistä siinä on kyse. Tarkoitus on havainnoida henkilön toimintakykyä työelämässä, jotta hänen mahdolliset toimintakykynsä rajoitteet ja vahvuudet saadaan selville. Tavoitteena on tämän jälkeen edistää oikeita jatkotoimenpiteitä hänen kohdallaan.
B9: Täytä lomake työkokeilijan työtehtävien suorittamisen aikana tekemiesi havaintojen pohjalta ICF-lomakkeen tarkenteiden mukaan.
B11: Täytetyt solut siirtyvät seuraavalle sivulle graafiseksi kuvaksi

Sheet Arvot
A1: Toiminnallinen työ- ja toimintakyvyn kuvaus
A2: Tämän lomakkeen on luonut Lahden kaupungin ESR-rahoitteinen TOTTA! -hanke 2025. Mittaristo pohjautuu ICF-viitekehykseen.
A5: Arvioitavan tiedot | D5: 0 | E5: Ei ongelmaa
A6: Nimi: | B6: xx.xx | D6: 1 | E6: Lievä ongelma
A7: Syntymäaika: | B7: xx.xx.xxxx | D7: 2 | E7: Kohtalainen ongelma
A8: Arviointi toteutettu: | B8: xx.xx.-xx.xx.xxxx | D8: 3 | E8: Vaikea ongelma
A9: Paikka: | B9: xxxxxxxxx | D9: 4 | E9: Ehdoton ongelma
D11: 0 | E11: 1 | F11: 2 | G11: 3 | H11: 4
A12: TEHTÄVISTÄ SUORIUTUMINEN
A14: 1. Yksittäisen tehtä tekeminen itsenäisesti (D2102)
A15: 2. Useiden tehtävien tekeminen itsenäisesti (D2202)
A16: 3. Vastuun kantaminen (D2400)
A17: 4. Stressin käsitteleminen (D2401)
A19: KOMMUNIKOINTI
A21: 5. Yksinkertaisten puhuttujen viestien ymmärtäminen (D3101)
A22: 6. Sosiaalisten sääntöjen mukainen vuorovaikutus (D7203)
A24: FYYSINEN TOIMINTAKYKY
A26: 7. Fyysinen yleiskestävyys (B4550)
A27: 8. Lyhyiden matkojen käveleminen (D4500)
A29: PSYYKKINEN TOIMINTAKYKY
... A40: Esim. pölyt hajut, lämpötilat.

Sheet Graafinen kuva

Sheet Helper
A12: =Arvot!A12 -> TEHTÄVISTÄ SUORIUTUMINEN | B12: =Arvot!B12 -> 0 | C12: =Arvot!C12 -> 0 | D12: =IF(UPPER(Arvot!D12)="X", 0, NA()) -> #N/A | E12: =IF(UPPER(Arvot!E12)="X", 1, NA()) -> #N/A | F12: =IF(UPPER(Arvot!F12)="X", 2, NA()) -> #N/A | G12: =IF(UPPER(Arvot!G12)="X", 3, NA()) -> #N/A | H12: =IF(UPPER(Arvot!H12)="X", 4, NA()) -> #N/A
A13: =Arvot!A13 -> 0 | B13: =Arvot!B13 -> 0 | C13: =Arvot!C13 -> 0 | D13: =IF(UPPER(Arvot!D13)="X", 0, NA()) -> #N/A | E13: =IF(UPPER(Arvot!E13)="X", 1, NA()) -> #N/A | F13: =IF(UPPER(Arvot!F13)="X", 2, NA()) -> #N/A | G13: =IF(UPPER(Arvot!G13)="X", 3, NA()) -> #N/A | H13: =IF(UPPER(Arvot!H13)="X", 4, NA()) -> #N/A
A14: =Arvot!A14 -> 1. Yksittäisen tehtä tekeminen itsenäisesti (D2102) | B14: =Arvot!B14 -> 0 | C14: =Arvot!C14 -> 0 | D14: =IF(UPPER(Arvot!D14)="X", 0, NA()) -> #N/A | E14: =IF(UPPER(Arvot!E14)="X", 1, NA()) -> #N/A | F14: =IF(UPPER(Arvot!F14)="X", 2, NA()) -> #N/A | G14: =IF(UPPER(Arvot!G14)="X", 3, NA()) -> #N/A | H14: =IF(UPPER(Arvot!H14)="X", 4, NA()) -> #N/A
A15: =Arvot!A15 -> 2. Useiden tehtävien tekeminen itsenäisesti (D2202) | B15: =Arvot!B15 -> 0 | C15: =Arvot!C15 -> 0 | D15: =IF(UPPER(Arvot!D15)="X", 0, NA()) -> #N/A | E15: =IF(UPPER(Arvot!E15)="X", 1, NA()) -> #N/A | F15: =IF(UPPER(Arvot!F15)="X", 2, NA()) -> #N/A | G15: =IF(UPPER(Arvot!G15)="X", 3, NA()) -> #N/A | H15: =IF(UPPER(Arvot!H15)="X", 4, NA()) -> #N/A
A16: =Arvot!A16 -> 3. Vastuun kantaminen (D2400) | B16: =Arvot!B16 -> 0 | C16: =Arvot!C16 -> 0 | D16: =IF(UPPER(Arvot!D16)="X", 0, NA()) -> #N/A | E16: =IF(UPPER(Arvot!E16)="X", 1, NA()) -> #N/A | F16: =IF(UPPER(Arvot!F16)="X", 2, NA()) -> #N/A | G16: =IF(UPPER(Arvot!G16)="X", 3, NA()) -> #N/A | H16: =IF(UPPER(Arvot!H16)="X", 4, NA()) -> #N/A
A17: =Arvot!A17 -> 4. Stressin käsitteleminen (D2401) | B17: =Arvot!B17 -> 0 | C17: =Arvot!C17 -> 0 | D17: =IF(UPPER(Arvot!D17)="X", 0, NA()) -> #N/A | E17: =IF(UPPER(Arvot!E17)="X", 1, NA()) -> #N/A | F17: =IF(UPPER(Arvot!F17)="X", 2, NA()) -> #N/A | G17: =IF(UPPER(Arvot!G17)="X", 3, NA()) -> #N/A | H17: =IF(UPPER(Arvot!H17)="X", 4, NA()) -> #N/A
A18: =Arvot!A18 -> 0 | B18: =Arvot!B18 -> 0 | C18: =Arvot!C18 -> 0 | D18: =IF(UPPER(Arvot!D18)="X", 0, NA()) -> #N/A | E18: =IF(UPPER(Arvot!E18)="X", 1, NA()) -> #N/A | F18: =IF(UPPER(Arvot!F18)="X", 2, NA()) -> #N/A | G18: =IF(UPPER(Arvot!G18)="X", 3, NA()) -> #N/A | H18: =IF(UPPER(Arvot!H18)="X", 4, NA()) -> #N/A
A19: =Arvot!A19 -> KOMMUNIKOINTI | B19: =Arvot!B19 -> 0 | C19: =Arvot!C19 -> 0 | D19: =IF(UPPER(Arvot!D19)="X", 0, NA()) -> #N/A | E19: =IF(UPPER(Arvot!E19)="X", 1, NA()) -> #N/A | F19: =IF(UPPER(Arvot!F19)="X", 2, NA()) -> #N/A | G19: =IF(UPPER(Arvot!G19)="X", 3, NA()) -> #N/A | H19: =IF(UPPER(Arvot!H19)="X", 4, NA()) -> #N/A
A20: =Arvot!A20 -> 0 | B20: =Arvot!B20 -> 0 | C20: =Arvot!C20 -> 0 | D20: =IF(UPPER(Arvot!D20)="X", 0, NA()) -> #N/A | E20: =IF(UPPER(Arvot!E20)="X", 1, NA()) -> #N/A | F20: =IF(UPPER(Arvot!F20)="X", 2, NA()) -> #N/A | G20: =IF(UPPER(Arvot!G20)="X", 3, NA()) -> #N/A | H20: =IF(UPPER(Arvot!H20)="X", 4, NA()) -> #N/A
A21: =Arvot!A21 -> 5. Yksinkertaisten puhuttujen viestien ymmärtäminen (D3101) | B21: =Arvot!B21 -> 0 | C21: =Arvot!C21 -> 0 | D21: =IF(UPPER(Arvot!D21)="X", 0, NA()) -> #N/A | E21: =IF(UPPER(Arvot!E21)="X", 1, NA()) -> #N/A | F21: =IF(UPPER(Arvot!F21)="X", 2, NA()) -> #N/A | G21: =IF(UPPER(Arvot!G21)="X", 3, NA()) -> #N/A | H21: =IF(UPPER(Arvot!H21)="X", 4, NA()) -> #N/A
A22: =Arvot!A22 -> 6. Sosiaalisten sääntöjen mukainen vuorovaikutus (D7203) | B22: =Arvot!B22 -> 0 | C22: =Arvot!C22 -> 0 | D22: =IF(UPPER(Arvot!D22)="X", 0, NA()) -> #N/A | E22: =IF(UPPER(Arvot!E22)="X", 1, NA()) -> #N/A | F22: =IF(UPPER(Arvot!F22)="X", 2, NA()) -> #N/A | G22: =IF(UPPER(Arvot!G22)="X", 3, NA()) -> #N/A | H22: =IF(UPPER(Arvot!H22)="X", 4, NA()) -> #N/A
A23: =Arvot!A23 -> 0 | B23: =Arvot!B23 -> 0 | C23: =Arvot!C23 -> 0 | D23: =IF(UPPER(Arvot!D23)="X", 0, NA()) -> #N/A | E23: =IF(UPPER(Arvot!E23)="X", 1, NA()) -> #N/A | F23: =IF(UPPER(Arvot!F23)="X", 2, NA()) -> #N/A | G23: =IF(UPPER(Arvot!G23)="X", 3, NA()) -> #N/A | H23: =IF(UPPER(Arvot!H23)="X", 4, NA()) -> #N/A
... A37: =Arvot!A37 -> 14. Kipu | B37: =Arvot!B37 -> 0 | C37: =Arvot!C37 -> 0 | D37: =IF(UPPER(Arvot!D37)="X", 0, NA()) -> #N/A | E37: =IF(UPPER(Arvot!E37)="X", 1, NA()) -> #N/A | F37: =IF(UPPER(Arvot!F37)="X", 2, NA()) -> #N/A | G37: =IF(UPPER(Arvot!G37)="X", 3, NA()) -> #N/A | H37: =IF(UPPER(Arvot!H37)="X", 4, NA()) -> #N/A
